BEGIN:VCALENDAR
VERSION:2.0
PRODID:-//hacksw/handcal//NONSGML v1.0//EN
BEGIN:VEVENT
SUMMARY:La ruee vers l'orge
UID:3232f705-a772-47ef-94b4-a806fe74c8df
DTSTART:20260524T060000Z
DTEND:20260524T150000Z
LOCATION:Localisation  28630 SOURS
CATEGORIES:Sportif
STATUS:
URL;VALUE=URI:https://occba-bonneval.sportsregions.fr/evenements/2026/05/24/la-ruee-vers-lorge-2438675
END:VEVENT
END:VCALENDAR
